BEGIN:VCALENDAR
VERSION:2.0
PRODID:-//Hidden Acres Farms, LLC - ECPv6.9.1//NONSGML v1.0//EN
CALSCALE:GREGORIAN
METHOD:PUBLISH
X-WR-CALNAME:Hidden Acres Farms, LLC
X-ORIGINAL-URL:https://hiddenacresfarmsllc.com
X-WR-CALDESC:Events for Hidden Acres Farms, LLC
REFRESH-INTERVAL;VALUE=DURATION:PT1H
X-Robots-Tag:noindex
X-PUBLISHED-TTL:PT1H
BEGIN:VTIMEZONE
TZID:America/Chicago
BEGIN:DAYLIGHT
TZOFFSETFROM:-0600
TZOFFSETTO:-0500
TZNAME:CDT
DTSTART:20240310T080000
END:DAYLIGHT
BEGIN:STANDARD
TZOFFSETFROM:-0500
TZOFFSETTO:-0600
TZNAME:CST
DTSTART:20241103T070000
END:STANDARD
END:VTIMEZONE
BEGIN:VEVENT
DTSTART;TZID=America/Chicago:20240912T180000
DTEND;TZID=America/Chicago:20240912T193000
DTSTAMP:20260421T004957
CREATED:20240805T022357Z
LAST-MODIFIED:20240905T111127Z
UID:1094-1726164000-1726169400@hiddenacresfarmsllc.com
SUMMARY:Yoga & Blooms
DESCRIPTION:Join instructor Lisa LaCombe\, owner of Yoga Journey\, to discover the healing power of nature and yoga during this six-week session starting on September 12th. Scientific research indicates that spending time in nature and practicing yoga has a profound effect on our physical\, mental and emotional health. We will explore our own unique connection to the Earth and the wonders of the natural world. our practice will take place near sunset amongst the beautiful flower fields of Hidden Acres Farms. \nThese six Yoga Flow sessions are developed for all skill levels with modification for beginners and a few optional challenges for more advanced students. We will kick things off on September 12 from 6 pm to 7:30 pm with a Yoga Flow practice\, and then experience solo meditation amongst the trees and flowers of the Farm. We will conclude the evening at sunset with some gentle restorative yoga\, balancing mind\, body and spirit. \nWear comfortable clothing\, and shoes for walking. Bug spray is suggested. Bring water and a yoga mat or large towel. It is important to arrive 15 minutes early to get set up. \nSeptember 12 Kick-off Event 6 pm – 7:30 pm; September 19\, 26 and October 3\, 10\, 17 from 6 pm to 7 pm. \n$120.00 per person for the six week class. To register call or text (816) 799-6400.
URL:https://hiddenacresfarmsllc.com/event/yoga-blooms/
LOCATION:Hidden Acres Farms\, 25111 E HAPPY HOLLOW RD\, INDEPENDENCE\, MO\, 64058-3148\, United States
CATEGORIES:Yoga
ATTACH;FMTTYPE=image/png:https://hiddenacresfarmsllc.com/wp-content/uploads/2024/08/YOGA-AND-BLOOMS-final.png
END:VEVENT
BEGIN:VEVENT
DTSTART;TZID=America/Chicago:20240817T080000
DTEND;TZID=America/Chicago:20240817T120000
DTSTAMP:20260421T004957
CREATED:20240815T212916Z
LAST-MODIFIED:20240815T213133Z
UID:1159-1723881600-1723896000@hiddenacresfarmsllc.com
SUMMARY:U-Pick Flower Event
DESCRIPTION:Back to School Special U-Pick Saturday\, August 17\, 2024 from 8 am to 12 pm. Fill your 32oz cup for $10.00 with Sunflowers and more beautiful flowers to give to your teacher\, administrators or anyone needing a smile. \nHere’s how it works: Come to the flower stand\, grab a 32oz cup and cutters and fill your cup up with as many flowers as you can fit in the cup. The cost is $10.00 per cup but only for this Saturday. The weather should be nice\, so come enjoy the farm and beautiful flowers!
URL:https://hiddenacresfarmsllc.com/event/u-pick-flower-event-3/
LOCATION:Hidden Acres Farms\, 25111 E HAPPY HOLLOW RD\, INDEPENDENCE\, MO\, 64058-3148\, United States
CATEGORIES:U-Pick
ATTACH;FMTTYPE=image/jpeg:https://hiddenacresfarmsllc.com/wp-content/uploads/2024/08/Back-to-School-Event.jpg
ORGANIZER;CN="Hidden Acres Farms":MAILTO:jheide@hiddenacresfarmsllc.com
END:VEVENT
BEGIN:VEVENT
DTSTART;TZID=America/Chicago:20240811T080000
DTEND;TZID=America/Chicago:20240811T120000
DTSTAMP:20260421T004957
CREATED:20240808T123805Z
LAST-MODIFIED:20240809T172438Z
UID:1116-1723363200-1723377600@hiddenacresfarmsllc.com
SUMMARY:U-Pick Flower Event
DESCRIPTION:U-Pick flower event on Saturday\, August 11\, 2024 from 8 am to 12 pm. We have lots of flower varieties available to choose from\, including sunflowers which are just starting to bloom! \nHere’s how it works: Come to the flower stand\, grab a cup and cutters and fill your cup up with as many flowers as you can fit in the cup. The cost is $20.00 per cup. The weather should be nice and cool\, so come enjoy the farm and beautiful flowers.
URL:https://hiddenacresfarmsllc.com/event/u-pick-flower-event-2/
LOCATION:Hidden Acres Farms\, 25111 E HAPPY HOLLOW RD\, INDEPENDENCE\, MO\, 64058-3148\, United States
CATEGORIES:U-Pick
ATTACH;FMTTYPE=image/jpeg:https://hiddenacresfarmsllc.com/wp-content/uploads/2024/08/photo_2024-08-07_06-46-26.jpg
ORGANIZER;CN="Hidden Acres Farms":MAILTO:jheide@hiddenacresfarmsllc.com
END:VEVENT
BEGIN:VEVENT
DTSTART;TZID=America/Chicago:20240807T183000
DTEND;TZID=America/Chicago:20240807T200000
DTSTAMP:20260421T004957
CREATED:20240807T120142Z
LAST-MODIFIED:20240807T120142Z
UID:1110-1723055400-1723060800@hiddenacresfarmsllc.com
SUMMARY:U-Pick Flower Event
DESCRIPTION:U-Pick flower event on August 7\, 2024 from 6:30 pm to 8 pm. We have lots of flower varieties available to choose from. \nHere’s how it works: Come to the flower stand\, grab a cup and cutters and fill your cup up with as many flowers as you can fit in the cup. The cost is $20.00 per cup. The weather should be nice and cool\, so come enjoy the farm and beautiful flowers.
URL:https://hiddenacresfarmsllc.com/event/u-pick-flower-event/
LOCATION:Hidden Acres Farms\, 25111 E HAPPY HOLLOW RD\, INDEPENDENCE\, MO\, 64058-3148\, United States
CATEGORIES:U-Pick
ATTACH;FMTTYPE=image/jpeg:https://hiddenacresfarmsllc.com/wp-content/uploads/2024/08/photo_2024-08-07_06-46-26.jpg
ORGANIZER;CN="Hidden Acres Farms":MAILTO:jheide@hiddenacresfarmsllc.com
END:VEVENT
BEGIN:VEVENT
DTSTART;TZID=America/Chicago:20240803T183000
DTEND;TZID=America/Chicago:20240803T203000
DTSTAMP:20260421T004957
CREATED:20240805T000952Z
LAST-MODIFIED:20240805T001029Z
UID:1087-1722709800-1722717000@hiddenacresfarmsllc.com
SUMMARY:U-Pick Flower Event
DESCRIPTION:U-Pick flower event		 \n\n	« All Events\n \nThis event has passed. \n\n	U-Pick Flower Event\n			August 3\n	 @\n6:30 pm\n	 –\n8:30 pm \n\n$20.00 \n	 \n\n	Categories:\n		U-Pick	 \n\n	Hidden Acres Farms\n\n25111 E HAPPY HOLLOW RD\n		\n		INDEPENDENCE\,\n	MO\n	64058-3148\n	United States\n\n\n	+ Google Map \n\n					\n			8167996400			\n	 \n\n\n\n\n	\n	Add to calendar	\n		\n	\n \n\n\n	Google Calendar\n\n\n	iCalendar\n\n\n	Outlook 365\n\n\n	Outlook Live
URL:https://hiddenacresfarmsllc.com/event/u-pick/
LOCATION:Hidden Acres Farms\, 25111 E HAPPY HOLLOW RD\, INDEPENDENCE\, MO\, 64058-3148\, United States
CATEGORIES:U-Pick
ATTACH;FMTTYPE=image/jpeg:https://hiddenacresfarmsllc.com/wp-content/uploads/2024/01/HAF_photo_2023-12-29_21-50-05_720X720.jpg
END:VEVENT
END:VCALENDAR